BEGIN:VCALENDAR
VERSION:2.0
PRODID:-//dev-luetzelflueh.gemeinde.ch//NONSGML kigkonsult.se iCalcreator 2
 .22//
CALSCALE:GREGORIAN
METHOD:PUBLISH
X-WR-TIMEZONE:Europe/Berlin
BEGIN:VEVENT
UID:20260424T194415CEST-7142JfFBUF@dev-luetzelflueh.gemeinde.ch
DTSTAMP:20260424T174415Z
DESCRIPTION:Klicken Sie auf den folgenden Link\, um weitere Informationen z
 ur Veranstaltung zu erhalten:\nhttp://dev-luetzelflueh.gemeinde.ch/de/vera
 nstaltungen/detail/detail.php?i=961
DTSTART:20260501T000000
DTEND:20260531T235500
LOCATION:Gemeindegebiet Lützelflüh
SUMMARY:Schweiz.bewegt
END:VEVENT
END:VCALENDAR
