BEGIN:VCALENDAR
VERSION:2.0
PRODID:-//dev-luetzelflueh.gemeinde.ch//NONSGML kigkonsult.se iCalcreator 2
 .22//
CALSCALE:GREGORIAN
METHOD:PUBLISH
X-WR-TIMEZONE:Europe/Berlin
BEGIN:VEVENT
UID:20260423T143621CEST-1194Oek5OI@dev-luetzelflueh.gemeinde.ch
DTSTAMP:20260423T123621Z
DESCRIPTION:Klicken Sie auf den folgenden Link\, um weitere Informationen z
 ur Veranstaltung zu erhalten:\nhttp://dev-luetzelflueh.gemeinde.ch/de/vera
 nstaltungen/detail/detail.php?i=960
DTSTART:20260508T193000
DTEND:20260508T220000
LOCATION:Gotthelf Zentrum
SUMMARY:Kickoff-Event Theaterproduktion 2027
END:VEVENT
END:VCALENDAR
