BEGIN:VCALENDAR
VERSION:2.0
PRODID:-//dev-luetzelflueh.gemeinde.ch//NONSGML kigkonsult.se iCalcreator 2
 .22//
CALSCALE:GREGORIAN
METHOD:PUBLISH
X-WR-TIMEZONE:Europe/Berlin
BEGIN:VEVENT
UID:20260419T145745CEST-1591vubh96@dev-luetzelflueh.gemeinde.ch
DTSTAMP:20260419T125745Z
DESCRIPTION:Klicken Sie auf den folgenden Link\, um weitere Informationen z
 ur Veranstaltung zu erhalten:\nhttp://dev-luetzelflueh.gemeinde.ch/de/vera
 nstaltungen/detail/detail.php?i=959
DTSTART:20260426T103000
DTEND:20260426T130000
LOCATION:Gotthelf Zentrum
SUMMARY:Gotthelf Sonntag
END:VEVENT
END:VCALENDAR
