BEGIN:VCALENDAR
VERSION:2.0
PRODID:-//dev-luetzelflueh.gemeinde.ch//NONSGML kigkonsult.se iCalcreator 2
 .22//
CALSCALE:GREGORIAN
METHOD:PUBLISH
X-WR-TIMEZONE:Europe/Berlin
BEGIN:VEVENT
UID:20260424T194416CEST-2142jZ7iLl@dev-luetzelflueh.gemeinde.ch
DTSTAMP:20260424T174416Z
DESCRIPTION:Klicken Sie auf den folgenden Link\, um weitere Informationen z
 ur Veranstaltung zu erhalten:\nhttp://dev-luetzelflueh.gemeinde.ch/de/vera
 nstaltungen/detail/detail.php?i=956
DTSTART:20270904T090000
DTEND:20270904T200000
LOCATION:Gemeindegebiet Lützelflüh
SUMMARY:Brüggefescht
END:VEVENT
END:VCALENDAR
