BEGIN:VCALENDAR
VERSION:2.0
PRODID:-//dev-luetzelflueh.gemeinde.ch//NONSGML kigkonsult.se iCalcreator 2
 .22//
CALSCALE:GREGORIAN
METHOD:PUBLISH
X-WR-TIMEZONE:Europe/Berlin
BEGIN:VEVENT
UID:20260424T194416CEST-71754dBv8h@dev-luetzelflueh.gemeinde.ch
DTSTAMP:20260424T174416Z
DESCRIPTION:Klicken Sie auf den folgenden Link\, um weitere Informationen z
 ur Veranstaltung zu erhalten:\nhttp://dev-luetzelflueh.gemeinde.ch/de/vera
 nstaltungen/detail/detail.php?i=955
DTSTART:20270731T180000
DTEND:20270731T230000
LOCATION:Kulturmühle Lützelflüh
SUMMARY:Bundesfeier
END:VEVENT
END:VCALENDAR
