BEGIN:VCALENDAR
VERSION:2.0
PRODID:-//dev-luetzelflueh.gemeinde.ch//NONSGML kigkonsult.se iCalcreator 2
 .22//
CALSCALE:GREGORIAN
METHOD:PUBLISH
X-WR-TIMEZONE:Europe/Berlin
BEGIN:VEVENT
UID:20260424T194409CEST-9548R39j4Z@dev-luetzelflueh.gemeinde.ch
DTSTAMP:20260424T174409Z
DESCRIPTION:Klicken Sie auf den folgenden Link\, um weitere Informationen z
 ur Veranstaltung zu erhalten:\nhttp://dev-luetzelflueh.gemeinde.ch/de/vera
 nstaltungen/detail/detail.php?i=954
DTSTART:20270621T180000
DTEND:20270621T220000
LOCATION:Schwimmbad Lützelflüh
SUMMARY:Fête de la musique
END:VEVENT
END:VCALENDAR
