BEGIN:VCALENDAR
VERSION:2.0
PRODID:-//dev-luetzelflueh.gemeinde.ch//NONSGML kigkonsult.se iCalcreator 2
 .22//
CALSCALE:GREGORIAN
METHOD:PUBLISH
X-WR-TIMEZONE:Europe/Berlin
BEGIN:VEVENT
UID:20260424T194417CEST-2155uSOwOH@dev-luetzelflueh.gemeinde.ch
DTSTAMP:20260424T174417Z
DESCRIPTION:Klicken Sie auf den folgenden Link\, um weitere Informationen z
 ur Veranstaltung zu erhalten:\nhttp://dev-luetzelflueh.gemeinde.ch/de/vera
 nstaltungen/detail/detail.php?i=951
DTSTART:20270319T193000
DTEND:20270319T220000
LOCATION:Turnhalle Grünenmatt
SUMMARY:Lützufiir (nur geladene Gäste)
END:VEVENT
END:VCALENDAR
