BEGIN:VCALENDAR
VERSION:2.0
PRODID:-//dev-luetzelflueh.gemeinde.ch//NONSGML kigkonsult.se iCalcreator 2
 .22//
CALSCALE:GREGORIAN
METHOD:PUBLISH
X-WR-TIMEZONE:Europe/Berlin
BEGIN:VEVENT
UID:20260424T194805CEST-2917GEuuIR@dev-luetzelflueh.gemeinde.ch
DTSTAMP:20260424T174805Z
DESCRIPTION:Klicken Sie auf den folgenden Link\, um weitere Informationen z
 ur Veranstaltung zu erhalten:\nhttp://dev-luetzelflueh.gemeinde.ch/de/vera
 nstaltungen/detail/detail.php?i=945
DTSTART:20261114T000000
DTEND:20261129T000000
LOCATION:Kulturmühle Lützelflüh
SUMMARY:Ausstellung mit Andreas Althaus\, Franco Müller und Strotter Inst.A
 llation
END:VEVENT
END:VCALENDAR
