BEGIN:VCALENDAR
VERSION:2.0
PRODID:-//dev-luetzelflueh.gemeinde.ch//NONSGML kigkonsult.se iCalcreator 2
 .22//
CALSCALE:GREGORIAN
METHOD:PUBLISH
X-WR-TIMEZONE:Europe/Berlin
BEGIN:VEVENT
UID:20260424T194803CEST-8680NfJskC@dev-luetzelflueh.gemeinde.ch
DTSTAMP:20260424T174803Z
DESCRIPTION:Klicken Sie auf den folgenden Link\, um weitere Informationen z
 ur Veranstaltung zu erhalten:\nhttp://dev-luetzelflueh.gemeinde.ch/de/vera
 nstaltungen/detail/detail.php?i=944
DTSTART:20261016T180000
DTEND:20261101T180000
LOCATION:Kulturmühle Lützelflüh
SUMMARY:Ausstellung mit Karin Habegger\, Nicole Iff\, Priska von Gunten und
  Susanne Wirth
END:VEVENT
END:VCALENDAR
