BEGIN:VCALENDAR
VERSION:2.0
PRODID:-//dev-luetzelflueh.gemeinde.ch//NONSGML kigkonsult.se iCalcreator 2
 .22//
CALSCALE:GREGORIAN
METHOD:PUBLISH
X-WR-TIMEZONE:Europe/Berlin
BEGIN:VEVENT
UID:20260424T194804CEST-0122IiAg9a@dev-luetzelflueh.gemeinde.ch
DTSTAMP:20260424T174804Z
DESCRIPTION:Klicken Sie auf den folgenden Link\, um weitere Informationen z
 ur Veranstaltung zu erhalten:\nhttp://dev-luetzelflueh.gemeinde.ch/de/vera
 nstaltungen/detail/detail.php?i=924
DTSTART:20260426T140000
DTEND:20260426T160000
LOCATION:Mehrzweckanlage Emmenschachen
SUMMARY:Jahreskonzert
END:VEVENT
END:VCALENDAR
