BEGIN:VCALENDAR
VERSION:2.0
PRODID:-//dev-luetzelflueh.gemeinde.ch//NONSGML kigkonsult.se iCalcreator 2
 .22//
CALSCALE:GREGORIAN
METHOD:PUBLISH
X-WR-TIMEZONE:Europe/Berlin
BEGIN:VEVENT
UID:20260424T194701CEST-5820Vgw6Ja@dev-luetzelflueh.gemeinde.ch
DTSTAMP:20260424T174701Z
DESCRIPTION:Klicken Sie auf den folgenden Link\, um weitere Informationen z
 ur Veranstaltung zu erhalten:\nhttp://dev-luetzelflueh.gemeinde.ch/de/vera
 nstaltungen/detail/detail.php?i=830
DTSTART:20261127T180000
DTEND:20261127T210000
LOCATION:Badi Beizli Lützelflüh
SUMMARY:Openair Anlass
END:VEVENT
END:VCALENDAR
