BEGIN:VCALENDAR
VERSION:2.0
PRODID:-//dev-luetzelflueh.gemeinde.ch//NONSGML kigkonsult.se iCalcreator 2
 .22//
CALSCALE:GREGORIAN
METHOD:PUBLISH
X-WR-TIMEZONE:Europe/Berlin
BEGIN:VEVENT
UID:20260424T194826CEST-4806xlOFCb@dev-luetzelflueh.gemeinde.ch
DTSTAMP:20260424T174826Z
DESCRIPTION:Klicken Sie auf den folgenden Link\, um weitere Informationen z
 ur Veranstaltung zu erhalten:\nhttp://dev-luetzelflueh.gemeinde.ch/de/vera
 nstaltungen/detail/detail.php?i=819
DTSTART:20261014T150000
DTEND:20261014T170000
LOCATION:Gemeindegebiet Lützelflüh
SUMMARY:Sammlung von Karton\, Elektroschrott\, Altmetall und Sonderabfälle
END:VEVENT
END:VCALENDAR
