BEGIN:VCALENDAR
VERSION:2.0
PRODID:-//dev-luetzelflueh.gemeinde.ch//NONSGML kigkonsult.se iCalcreator 2
 .22//
CALSCALE:GREGORIAN
METHOD:PUBLISH
X-WR-TIMEZONE:Europe/Berlin
BEGIN:VEVENT
UID:20260424T194617CEST-9998jNfPDl@dev-luetzelflueh.gemeinde.ch
DTSTAMP:20260424T174617Z
DESCRIPTION:Klicken Sie auf den folgenden Link\, um weitere Informationen z
 ur Veranstaltung zu erhalten:\nhttp://dev-luetzelflueh.gemeinde.ch/de/vera
 nstaltungen/detail/detail.php?i=802
DTSTART:20261106T193000
DTEND:20261106T220000
LOCATION:
SUMMARY:Wirtschaftsapéro (nur geladene Gäste)
END:VEVENT
END:VCALENDAR
