BEGIN:VCALENDAR
VERSION:2.0
PRODID:-//dev-luetzelflueh.gemeinde.ch//NONSGML kigkonsult.se iCalcreator 2
 .22//
CALSCALE:GREGORIAN
METHOD:PUBLISH
X-WR-TIMEZONE:Europe/Berlin
BEGIN:VEVENT
UID:20260420T023857CEST-8313ou1jxE@dev-luetzelflueh.gemeinde.ch
DTSTAMP:20260420T003857Z
DESCRIPTION:Klicken Sie auf den folgenden Link\, um weitere Informationen z
 ur Veranstaltung zu erhalten:\nhttp://dev-luetzelflueh.gemeinde.ch/de/vera
 nstaltungen/detail/detail.php?i=936
DTSTART:20260424T203000
DTEND:20260424T230000
LOCATION:Kulturmühle Lützelflüh
SUMMARY:Dänu Wisler & Band
END:VEVENT
END:VCALENDAR
