BEGIN:VCALENDAR
VERSION:2.0
PRODID:-//dev-luetzelflueh.gemeinde.ch//NONSGML kigkonsult.se iCalcreator 2
 .22//
CALSCALE:GREGORIAN
METHOD:PUBLISH
X-WR-TIMEZONE:Europe/Berlin
BEGIN:VEVENT
UID:20260420T110135CEST-8480EpzKwB@dev-luetzelflueh.gemeinde.ch
DTSTAMP:20260420T090135Z
DESCRIPTION:Klicken Sie auf den folgenden Link\, um weitere Informationen z
 ur Veranstaltung zu erhalten:\nhttp://dev-luetzelflueh.gemeinde.ch/de/vera
 nstaltungen/detail/detail.php?i=756
DTSTART:20260413T090000
DTEND:20260418T110000
LOCATION:Gemeindegebiet Lützelflüh
SUMMARY:Altmetall\, Elektroschrott- und Kartonsammlung 2026
END:VEVENT
END:VCALENDAR
